BEGIN:VCALENDAR
VERSION:2.0
PRODID:-//South Lake Union Block Party - ECPv6.15.18//NONSGML v1.0//EN
CALSCALE:GREGORIAN
METHOD:PUBLISH
X-ORIGINAL-URL:https://slublockparty.com
X-WR-CALDESC:Events for South Lake Union Block Party
REFRESH-INTERVAL;VALUE=DURATION:PT1H
X-Robots-Tag:noindex
X-PUBLISHED-TTL:PT1H
BEGIN:VTIMEZONE
TZID:America/Los_Angeles
BEGIN:DAYLIGHT
TZOFFSETFROM:-0800
TZOFFSETTO:-0700
TZNAME:PDT
DTSTART:20230312T100000
END:DAYLIGHT
BEGIN:STANDARD
TZOFFSETFROM:-0700
TZOFFSETTO:-0800
TZNAME:PST
DTSTART:20231105T090000
END:STANDARD
BEGIN:DAYLIGHT
TZOFFSETFROM:-0800
TZOFFSETTO:-0700
TZNAME:PDT
DTSTART:20240310T100000
END:DAYLIGHT
BEGIN:STANDARD
TZOFFSETFROM:-0700
TZOFFSETTO:-0800
TZNAME:PST
DTSTART:20241103T090000
END:STANDARD
BEGIN:DAYLIGHT
TZOFFSETFROM:-0800
TZOFFSETTO:-0700
TZNAME:PDT
DTSTART:20250309T100000
END:DAYLIGHT
BEGIN:STANDARD
TZOFFSETFROM:-0700
TZOFFSETTO:-0800
TZNAME:PST
DTSTART:20251102T090000
END:STANDARD
BEGIN:DAYLIGHT
TZOFFSETFROM:-0800
TZOFFSETTO:-0700
TZNAME:PDT
DTSTART:20260308T100000
END:DAYLIGHT
BEGIN:STANDARD
TZOFFSETFROM:-0700
TZOFFSETTO:-0800
TZNAME:PST
DTSTART:20261101T090000
END:STANDARD
END:VTIMEZONE
BEGIN:VEVENT
DTSTART;TZID=America/Los_Angeles:20250808T160000
DTEND;TZID=America/Los_Angeles:20250808T173000
DTSTAMP:20260420T191013
CREATED:20240703T205841Z
LAST-MODIFIED:20250731T204307Z
UID:10000002-1754668800-1754674200@slublockparty.com
SUMMARY:SOUTH LAKE UNION STREET SCRAMBLE
DESCRIPTION:
URL:https://slublockparty.com/event/south-lake-union-street-scramble/
LOCATION:Cornish+ Community Fair Stage\, 9th Ave N & John St\, Seattle\, 98109\, United States
END:VEVENT
BEGIN:VEVENT
DTSTART;TZID=America/Los_Angeles:20240809T150000
DTEND;TZID=America/Los_Angeles:20240809T163000
DTSTAMP:20260420T191013
CREATED:20240708T203242Z
LAST-MODIFIED:20240709T231645Z
UID:10000007-1723215600-1723221000@slublockparty.com
SUMMARY:DJ BABY VAN BEEZLY
DESCRIPTION:
URL:https://slublockparty.com/event/dj-baby-van-beezly/
LOCATION:Cornish+ Community Fair Stage\, 9th Ave N & John St\, Seattle\, 98109\, United States
END:VEVENT
BEGIN:VEVENT
DTSTART;TZID=America/Los_Angeles:20240809T133000
DTEND;TZID=America/Los_Angeles:20240809T143000
DTSTAMP:20260420T191013
CREATED:20240801T190330Z
LAST-MODIFIED:20240801T190516Z
UID:10000015-1723210200-1723213800@slublockparty.com
SUMMARY:AVALANCHE TRIO
DESCRIPTION:
URL:https://slublockparty.com/event/avalanche-trio/
LOCATION:Cornish+ Community Fair Stage\, 9th Ave N & John St\, Seattle\, 98109\, United States
END:VEVENT
BEGIN:VEVENT
DTSTART;TZID=America/Los_Angeles:20240809T121500
DTEND;TZID=America/Los_Angeles:20240809T131500
DTSTAMP:20260420T191013
CREATED:20240801T190228Z
LAST-MODIFIED:20240801T190534Z
UID:10000014-1723205700-1723209300@slublockparty.com
SUMMARY:HD QUARTET
DESCRIPTION:
URL:https://slublockparty.com/event/hd-quartet/
LOCATION:Cornish+ Community Fair Stage\, 9th Ave N & John St\, Seattle\, 98109\, United States
END:VEVENT
BEGIN:VEVENT
DTSTART;TZID=America/Los_Angeles:20240809T110000
DTEND;TZID=America/Los_Angeles:20240809T143000
DTSTAMP:20260420T191013
CREATED:20240708T203140Z
LAST-MODIFIED:20240709T231728Z
UID:10000006-1723201200-1723213800@slublockparty.com
SUMMARY:CORNISH+ ACTS
DESCRIPTION:
URL:https://slublockparty.com/event/cornish-acts/
LOCATION:Cornish+ Community Fair Stage\, 9th Ave N & John St\, Seattle\, 98109\, United States
END:VEVENT
BEGIN:VEVENT
DTSTART;TZID=America/Los_Angeles:20240809T110000
DTEND;TZID=America/Los_Angeles:20240809T120000
DTSTAMP:20260420T191013
CREATED:20240801T190105Z
LAST-MODIFIED:20240801T190545Z
UID:10000013-1723201200-1723204800@slublockparty.com
SUMMARY:SABRYN DUO
DESCRIPTION:
URL:https://slublockparty.com/event/sabryn-duo/
LOCATION:Cornish+ Community Fair Stage\, 9th Ave N & John St\, Seattle\, 98109\, United States
END:VEVENT
END:VCALENDAR